BEGIN:VCALENDAR
VERSION:2.0
PRODID:-//BC Family Hearing - ECPv6.15.13.1//NONSGML v1.0//EN
CALSCALE:GREGORIAN
METHOD:PUBLISH
X-WR-CALNAME:BC Family Hearing
X-ORIGINAL-URL:https://www.bcfamilyhearing.com
X-WR-CALDESC:Events for BC Family Hearing
REFRESH-INTERVAL;VALUE=DURATION:PT1H
X-Robots-Tag:noindex
X-PUBLISHED-TTL:PT1H
BEGIN:VTIMEZONE
TZID:America/Denver
BEGIN:DAYLIGHT
TZOFFSETFROM:-0700
TZOFFSETTO:-0600
TZNAME:MDT
DTSTART:20240310T090000
END:DAYLIGHT
BEGIN:STANDARD
TZOFFSETFROM:-0600
TZOFFSETTO:-0700
TZNAME:MST
DTSTART:20241103T080000
END:STANDARD
BEGIN:DAYLIGHT
TZOFFSETFROM:-0700
TZOFFSETTO:-0600
TZNAME:MDT
DTSTART:20250309T090000
END:DAYLIGHT
BEGIN:STANDARD
TZOFFSETFROM:-0600
TZOFFSETTO:-0700
TZNAME:MST
DTSTART:20251102T080000
END:STANDARD
BEGIN:DAYLIGHT
TZOFFSETFROM:-0700
TZOFFSETTO:-0600
TZNAME:MDT
DTSTART:20260308T090000
END:DAYLIGHT
BEGIN:STANDARD
TZOFFSETFROM:-0600
TZOFFSETTO:-0700
TZNAME:MST
DTSTART:20261101T080000
END:STANDARD
END:VTIMEZONE
BEGIN:VEVENT
DTSTART;TZID=America/Denver:20251122T120000
DTEND;TZID=America/Denver:20251122T133000
DTSTAMP:20260423T172104
CREATED:20251028T183341Z
LAST-MODIFIED:20251028T200444Z
UID:10000082-1763812800-1763818200@www.bcfamilyhearing.com
SUMMARY:PEER Kids Pizza Party (Surrey\, Vancouver\, Victoria)
DESCRIPTION:Is your d/Deaf or hard of hearing child starting kindergarten in September 2026? Join us for pizza and a casual get-together to connect with other families!Please click here for more information\, and to register. \n\n\n\n	\n\n\n\nSurrey Office15220 92 AvenueSurrey\, BC V3R 2T8604-584-28271-877-584-2827Vancouver Office#262 – 3665 KingswayVancouver\, BC V5R 5W2604-428-7949Victoria Office#330 – 702 Fort StreetVictoria\, BC V8W 1H2778-265-8908
URL:https://www.bcfamilyhearing.com/event/peer-kids-pizza-party-surrey-vancouver-victoria/
LOCATION:BC
CATEGORIES:Event,Group
ATTACH;FMTTYPE=image/png:https://www.bcfamilyhearing.com/wp-content/uploads/2025/10/PEER-Kids-Pizza-Party-Logo.png
END:VEVENT
END:VCALENDAR