BEGIN:VCALENDAR
VERSION:2.0
PRODID:-//BC Family Hearing - ECPv6.15.13.1//NONSGML v1.0//EN
CALSCALE:GREGORIAN
METHOD:PUBLISH
X-WR-CALNAME:BC Family Hearing
X-ORIGINAL-URL:https://www.bcfamilyhearing.com
X-WR-CALDESC:Events for BC Family Hearing
REFRESH-INTERVAL;VALUE=DURATION:PT1H
X-Robots-Tag:noindex
X-PUBLISHED-TTL:PT1H
BEGIN:VTIMEZONE
TZID:America/Denver
BEGIN:DAYLIGHT
TZOFFSETFROM:-0700
TZOFFSETTO:-0600
TZNAME:MDT
DTSTART:20240310T090000
END:DAYLIGHT
BEGIN:STANDARD
TZOFFSETFROM:-0600
TZOFFSETTO:-0700
TZNAME:MST
DTSTART:20241103T080000
END:STANDARD
BEGIN:DAYLIGHT
TZOFFSETFROM:-0700
TZOFFSETTO:-0600
TZNAME:MDT
DTSTART:20250309T090000
END:DAYLIGHT
BEGIN:STANDARD
TZOFFSETFROM:-0600
TZOFFSETTO:-0700
TZNAME:MST
DTSTART:20251102T080000
END:STANDARD
BEGIN:DAYLIGHT
TZOFFSETFROM:-0700
TZOFFSETTO:-0600
TZNAME:MDT
DTSTART:20260308T090000
END:DAYLIGHT
BEGIN:STANDARD
TZOFFSETFROM:-0600
TZOFFSETTO:-0700
TZNAME:MST
DTSTART:20261101T080000
END:STANDARD
END:VTIMEZONE
BEGIN:VTIMEZONE
TZID:America/Los_Angeles
BEGIN:DAYLIGHT
TZOFFSETFROM:-0800
TZOFFSETTO:-0700
TZNAME:PDT
DTSTART:20240310T100000
END:DAYLIGHT
BEGIN:STANDARD
TZOFFSETFROM:-0700
TZOFFSETTO:-0800
TZNAME:PST
DTSTART:20241103T090000
END:STANDARD
BEGIN:DAYLIGHT
TZOFFSETFROM:-0800
TZOFFSETTO:-0700
TZNAME:PDT
DTSTART:20250309T100000
END:DAYLIGHT
BEGIN:STANDARD
TZOFFSETFROM:-0700
TZOFFSETTO:-0800
TZNAME:PST
DTSTART:20251102T090000
END:STANDARD
BEGIN:DAYLIGHT
TZOFFSETFROM:-0800
TZOFFSETTO:-0700
TZNAME:PDT
DTSTART:20260308T100000
END:DAYLIGHT
BEGIN:STANDARD
TZOFFSETFROM:-0700
TZOFFSETTO:-0800
TZNAME:PST
DTSTART:20261101T090000
END:STANDARD
END:VTIMEZONE
BEGIN:VEVENT
DTSTART;TZID=America/Denver:20250708T170000
DTEND;TZID=America/Denver:20250708T183000
DTSTAMP:20260422T220507
CREATED:20250618T054713Z
LAST-MODIFIED:20250618T054753Z
UID:10000072-1751994000-1751999400@www.bcfamilyhearing.com
SUMMARY:Okanagan Beach Day (Vernon)
DESCRIPTION:Gather the whole family and head on out to the beach! This event is open to all families with deaf and hard of hearing children under the age of 5 in the region.Click here for more information\, and to register!
URL:https://www.bcfamilyhearing.com/event/okanagan-beach-day-vernon/
LOCATION:Kin Beach\, 7248 Tronson Road\, Vernon\, BC\, Canada
CATEGORIES:ASL,Event,Field Trip
ATTACH;FMTTYPE=image/png:https://www.bcfamilyhearing.com/wp-content/uploads/2025/06/Okanagan-Beach-Day-2025-Logo.png
END:VEVENT
BEGIN:VEVENT
DTSTART;TZID=America/Los_Angeles:20250721T170000
DTEND;TZID=America/Los_Angeles:20250721T183000
DTSTAMP:20260422T220507
CREATED:20250716T030636Z
LAST-MODIFIED:20250716T030741Z
UID:10000073-1753117200-1753122600@www.bcfamilyhearing.com
SUMMARY:Prince Charles Park Trip (Kamloops)
DESCRIPTION:Please join us for a casual meet up for families at the park!Click here for more information\, and to register.
URL:https://www.bcfamilyhearing.com/event/prince-charles-park-trip-kamloops/
LOCATION:Prince Charles Park\, 1145 Nicola Street\, Kamloops\, BC\, V2C 2S3\, Canada
CATEGORIES:Event,Field Trip
ATTACH;FMTTYPE=image/jpeg:https://www.bcfamilyhearing.com/wp-content/uploads/2025/07/Prince-Charles-Park-Meet-Up-Logo.jpg
END:VEVENT
BEGIN:VEVENT
DTSTART;TZID=America/Los_Angeles:20250726T100000
DTEND;TZID=America/Los_Angeles:20250727T130000
DTSTAMP:20260422T220507
CREATED:20250614T010730Z
LAST-MODIFIED:20250716T041659Z
UID:10000071-1753524000-1753621200@www.bcfamilyhearing.com
SUMMARY:Mingle & Play (Surrey)
DESCRIPTION:Please click the flyer image below to RSVP! \n\n\n\n			\n\n\nPlease click here if you are interested in volunteering for this event. \n\nHere is the schedule for the event:
URL:https://www.bcfamilyhearing.com/event/mingle-play-surrey/
LOCATION:BC Family Hearing Resource Society – Surrey\, 15220 92 Avenue\, Surrey\, British Columbia\, V3R2T8\, Canada
CATEGORIES:ASL,Event
ATTACH;FMTTYPE=image/jpeg:https://www.bcfamilyhearing.com/wp-content/uploads/2025/06/Mingle-Play-2025-Flyer-Banner.jpg
END:VEVENT
END:VCALENDAR