BEGIN:VCALENDAR
VERSION:2.0
PRODID:-//BC Family Hearing - ECPv6.15.13.1//NONSGML v1.0//EN
CALSCALE:GREGORIAN
METHOD:PUBLISH
X-WR-CALNAME:BC Family Hearing
X-ORIGINAL-URL:https://www.bcfamilyhearing.com
X-WR-CALDESC:Events for BC Family Hearing
REFRESH-INTERVAL;VALUE=DURATION:PT1H
X-Robots-Tag:noindex
X-PUBLISHED-TTL:PT1H
BEGIN:VTIMEZONE
TZID:America/Los_Angeles
BEGIN:DAYLIGHT
TZOFFSETFROM:-0800
TZOFFSETTO:-0700
TZNAME:PDT
DTSTART:20230312T100000
END:DAYLIGHT
BEGIN:STANDARD
TZOFFSETFROM:-0700
TZOFFSETTO:-0800
TZNAME:PST
DTSTART:20231105T090000
END:STANDARD
BEGIN:DAYLIGHT
TZOFFSETFROM:-0800
TZOFFSETTO:-0700
TZNAME:PDT
DTSTART:20240310T100000
END:DAYLIGHT
BEGIN:STANDARD
TZOFFSETFROM:-0700
TZOFFSETTO:-0800
TZNAME:PST
DTSTART:20241103T090000
END:STANDARD
BEGIN:DAYLIGHT
TZOFFSETFROM:-0800
TZOFFSETTO:-0700
TZNAME:PDT
DTSTART:20250309T100000
END:DAYLIGHT
BEGIN:STANDARD
TZOFFSETFROM:-0700
TZOFFSETTO:-0800
TZNAME:PST
DTSTART:20251102T090000
END:STANDARD
END:VTIMEZONE
BEGIN:VTIMEZONE
TZID:America/Denver
BEGIN:DAYLIGHT
TZOFFSETFROM:-0700
TZOFFSETTO:-0600
TZNAME:MDT
DTSTART:20230312T090000
END:DAYLIGHT
BEGIN:STANDARD
TZOFFSETFROM:-0600
TZOFFSETTO:-0700
TZNAME:MST
DTSTART:20231105T080000
END:STANDARD
BEGIN:DAYLIGHT
TZOFFSETFROM:-0700
TZOFFSETTO:-0600
TZNAME:MDT
DTSTART:20240310T090000
END:DAYLIGHT
BEGIN:STANDARD
TZOFFSETFROM:-0600
TZOFFSETTO:-0700
TZNAME:MST
DTSTART:20241103T080000
END:STANDARD
BEGIN:DAYLIGHT
TZOFFSETFROM:-0700
TZOFFSETTO:-0600
TZNAME:MDT
DTSTART:20250309T090000
END:DAYLIGHT
BEGIN:STANDARD
TZOFFSETFROM:-0600
TZOFFSETTO:-0700
TZNAME:MST
DTSTART:20251102T080000
END:STANDARD
END:VTIMEZONE
BEGIN:VTIMEZONE
TZID:UTC
BEGIN:STANDARD
TZOFFSETFROM:+0000
TZOFFSETTO:+0000
TZNAME:UTC
DTSTART:20230101T000000
END:STANDARD
END:VTIMEZONE
BEGIN:VEVENT
DTSTART;TZID=America/Los_Angeles:20241129T153000
DTEND;TZID=America/Los_Angeles:20241129T170000
DTSTAMP:20260419T215717
CREATED:20241113T235440Z
LAST-MODIFIED:20241113T235552Z
UID:10000060-1732894200-1732899600@www.bcfamilyhearing.com
SUMMARY:Lights at the Lake (Coquitlam)
DESCRIPTION:Join us for games\, hot chocolate\, and a walk around the lake! \n\n\n\n\nClick here for more information\, and to RSVP.
URL:https://www.bcfamilyhearing.com/event/lights-at-the-lake-coquitlam/
LOCATION:Lafarge Lake\, 1251-1263 Pinetree Way\, Coquitlam\, BC\, V3B 7Y3\, Canada
ATTACH;FMTTYPE=image/png:https://www.bcfamilyhearing.com/wp-content/uploads/2024/11/Lights-at-the-Lake.png
END:VEVENT
BEGIN:VEVENT
DTSTART;TZID=America/Denver:20241023T130000
DTEND;TZID=America/Denver:20241023T150000
DTSTAMP:20260419T215717
CREATED:20241002T053359Z
LAST-MODIFIED:20241002T054105Z
UID:10000058-1729688400-1729695600@www.bcfamilyhearing.com
SUMMARY:Language in the Pool (Burnaby)
DESCRIPTION:Join our Early Intervention Team for an opportunity to learn vocabulary and practice communication strategies to support language access in a pool environment. \n\n\nBurnaby\n\n\n	Saturday\, October 23rd\, 2024\n\n	Click here for more information\, and to register!
URL:https://www.bcfamilyhearing.com/event/language-in-the-pool-burnaby/
LOCATION:British Columbia
CATEGORIES:ASL,Group
ATTACH;FMTTYPE=image/png:https://www.bcfamilyhearing.com/wp-content/uploads/2024/06/Language-in-the-Pool-pic.png
END:VEVENT
BEGIN:VEVENT
DTSTART;TZID=America/Denver:20241006T130000
DTEND;TZID=America/Denver:20241006T150000
DTSTAMP:20260419T215717
CREATED:20241002T062609Z
LAST-MODIFIED:20241005T010341Z
UID:10000059-1728219600-1728226800@www.bcfamilyhearing.com
SUMMARY:Pumpkinfest (Victoria)
DESCRIPTION:Join the Family Network for Deaf Child and BC Family Hearing for an afternoon of fun at Pumpkinfest! \n\n\n\n\nClick here for more information\, and to RSVP!
URL:https://www.bcfamilyhearing.com/event/pumpkinfest-victoria/
LOCATION:Galey Farms\, 4150 Blenkinsop Road\, Victoria\, BC\, V8X 2C4\, Canada
ATTACH;FMTTYPE=image/png:https://www.bcfamilyhearing.com/wp-content/uploads/2024/10/Pumpkinfest-at-Galey-Farms-2024-logo.png
END:VEVENT
BEGIN:VEVENT
DTSTART;TZID=America/Denver:20241005T130000
DTEND;TZID=America/Denver:20241005T150000
DTSTAMP:20260419T215717
CREATED:20240910T062057Z
LAST-MODIFIED:20240910T062129Z
UID:10000057-1728133200-1728140400@www.bcfamilyhearing.com
SUMMARY:Language in the Pool (Prince George)
DESCRIPTION:Join our Early Intervention Team for an opportunity to learn vocabulary and practice communication strategies to support language access in a pool environment. \n\nPrince George\n\n\n	Saturday\, October 5th\, 2024\n\n	Click here for more information\, and to register!
URL:https://www.bcfamilyhearing.com/event/language-in-the-pool-prince-george/
LOCATION:Canfor Leisure Pool\, 670 Quebec Street\, Prince George\, BC\, V2L1W7\, Canada
CATEGORIES:Group
ATTACH;FMTTYPE=image/png:https://www.bcfamilyhearing.com/wp-content/uploads/2024/06/Language-in-the-Pool-pic.png
END:VEVENT
BEGIN:VEVENT
DTSTART;TZID=America/Denver:20241005T100000
DTEND;TZID=America/Denver:20241005T120000
DTSTAMP:20260419T215717
CREATED:20240822T231306Z
LAST-MODIFIED:20240910T013024Z
UID:10000054-1728122400-1728129600@www.bcfamilyhearing.com
SUMMARY:Pumpkin Patch Field Trip (Langley)
DESCRIPTION:Join us for a trip to visit the animals\, go for a hayride\, meet the farmers\, and learn ASL farm-related signs! This event is for families currently receiving services from BCFHRS\, CHSC\, and/or DCS. \n\n\n	Saturday\, October 5th\, 2024\n\n	Click here for more information\, and to register!
URL:https://www.bcfamilyhearing.com/event/pumpkin-patch-field-trip-langley/
LOCATION:Aldor Acres Family Farm\, 24990 84 Avenue\, Langley\, BC\, V1M 3P4\, Canada
CATEGORIES:Event,Field Trip
ATTACH;FMTTYPE=image/jpeg:https://www.bcfamilyhearing.com/wp-content/uploads/2024/08/Pumpkin-Patch-Field-Trip-Flyer-Banner.jpg
END:VEVENT
BEGIN:VEVENT
DTSTART;TZID=America/Denver:20240926T130000
DTEND;TZID=America/Denver:20240926T150000
DTSTAMP:20260419T215717
CREATED:20240809T055303Z
LAST-MODIFIED:20240910T062304Z
UID:10000051-1727355600-1727362800@www.bcfamilyhearing.com
SUMMARY:Language in the Pool (Cranbrook)
DESCRIPTION:Join our Early Intervention Team for an opportunity to learn vocabulary and practice communication strategies to support language access in a pool environment. \n\nCranbrook\n\n\n	Thursday\, September 26th\, 2024\n\n	Click here for more information\, and to register!
URL:https://www.bcfamilyhearing.com/event/language-in-the-pool-cranbrook/
LOCATION:Cranbrook Aquatic Centre\, Unit 3 - 177 2nd Street North\, Cranbrook\, BC\, V1C 7G9\, Canada
CATEGORIES:ASL,Group
ATTACH;FMTTYPE=image/png:https://www.bcfamilyhearing.com/wp-content/uploads/2024/06/Language-in-the-Pool-pic.png
END:VEVENT
BEGIN:VEVENT
DTSTART;TZID=America/Denver:20240925T150000
DTEND;TZID=America/Denver:20240925T170000
DTSTAMP:20260419T215717
CREATED:20240907T061339Z
LAST-MODIFIED:20240910T062315Z
UID:10000055-1727276400-1727283600@www.bcfamilyhearing.com
SUMMARY:Language in the Pool (Vernon)
DESCRIPTION:Join our Early Intervention Team for an opportunity to learn vocabulary and practice communication strategies to support language access in a pool environment. \n\n\n\n	Friday\, September 25th\, 2024\n\n	Click here for more information\, and to register!
URL:https://www.bcfamilyhearing.com/event/language-in-the-pool-vernon/
LOCATION:British Columbia
CATEGORIES:ASL,Group
ATTACH;FMTTYPE=image/png:https://www.bcfamilyhearing.com/wp-content/uploads/2024/06/Language-in-the-Pool-pic.png
END:VEVENT
BEGIN:VEVENT
DTSTART;TZID=America/Denver:20240923T140000
DTEND;TZID=America/Denver:20240923T160000
DTSTAMP:20260419T215717
CREATED:20240910T010701Z
LAST-MODIFIED:20240910T011131Z
UID:10000056-1727100000-1727107200@www.bcfamilyhearing.com
SUMMARY:DHH Family Get-Together (Cranbrook)
DESCRIPTION:Join us for fun at Idlewild Park! \n\n\n\n	Monday\, September 23rd\, 2024\n\n	Click here for more information!\n\n	Click here to RSVP!
URL:https://www.bcfamilyhearing.com/event/dhh-family-get-together-cranbrook/
LOCATION:Idlewild Park\, 3379 9th Street South\, Cranbrook\, BC\, V1C7A8\, Canada
CATEGORIES:Event
ATTACH;FMTTYPE=image/png:https://www.bcfamilyhearing.com/wp-content/uploads/2024/09/DHH-Family-Get-Together-Sept.-23-2024.png
END:VEVENT
BEGIN:VEVENT
DTSTART;TZID=America/Denver:20240921T130000
DTEND;TZID=America/Denver:20240921T150000
DTSTAMP:20260419T215717
CREATED:20240822T060654Z
LAST-MODIFIED:20240910T013039Z
UID:10000053-1726923600-1726930800@www.bcfamilyhearing.com
SUMMARY:Family Fun Day (Victoria)
DESCRIPTION:Come and join us for a Family Fun Day event on the farm! Participate in a story\, song\, and interact with the animals all around the farm. \n\n\n	Saturday\, September 21st\, 2024\n\n	Click here for more information\, and to register!
URL:https://www.bcfamilyhearing.com/event/family-fun-day-victoria/
LOCATION:Bear N Bee Farm\, 834 Finlayson Arm Road\, Victoria\, BC\, V9B 6E5\, Canada
CATEGORIES:Event,Field Trip
ATTACH;FMTTYPE=image/png:https://www.bcfamilyhearing.com/wp-content/uploads/2024/08/Family-Fun-Day-Flyer-logo.png
END:VEVENT
BEGIN:VEVENT
DTSTART;TZID=America/Denver:20240913T150000
DTEND;TZID=America/Denver:20240913T170000
DTSTAMP:20260419T215717
CREATED:20240822T053634Z
LAST-MODIFIED:20240910T062330Z
UID:10000052-1726239600-1726246800@www.bcfamilyhearing.com
SUMMARY:Language in the Pool (Victoria)
DESCRIPTION:Join our Early Intervention Team for an opportunity to learn vocabulary and practice communication strategies to support language access in a pool environment. \n\nVictoria\n\n\n	Friday\, September 13th\, 2024\n\n	Click here for more information\, and to register!
URL:https://www.bcfamilyhearing.com/event/language-in-the-pool-victoria/
LOCATION:Juan de Fuca Recreation Centre\, 1767 Island Highway\, Victoria\, BC\, V9B1J1\, Canada
CATEGORIES:ASL,Group
ATTACH;FMTTYPE=image/png:https://www.bcfamilyhearing.com/wp-content/uploads/2024/06/Language-in-the-Pool-pic.png
END:VEVENT
BEGIN:VEVENT
DTSTART;TZID=America/Los_Angeles:20240809T150000
DTEND;TZID=America/Los_Angeles:20240809T170000
DTSTAMP:20260419T215717
CREATED:20240809T055006Z
LAST-MODIFIED:20240809T055426Z
UID:10000050-1723215600-1723222800@www.bcfamilyhearing.com
SUMMARY:Language in the Pool (Campbell River)
DESCRIPTION:Join our Early Intervention Team for an opportunity to learn vocabulary and practice communication strategies to support language access in a pool environment. \n\nCampbell River\n\n\n	Friday\, August 9th\, 2024\n\n	Click here for more information\, and to register!
URL:https://www.bcfamilyhearing.com/event/language-in-the-pool-campbell-river/
LOCATION:Strathcona Gardens Recreation Complex\, 225 South Dogwood Street\, Campbell River\, BC\, V9W 8C8\, Canada
CATEGORIES:ASL,Group
ATTACH;FMTTYPE=image/png:https://www.bcfamilyhearing.com/wp-content/uploads/2024/06/Language-in-the-Pool-pic.png
END:VEVENT
BEGIN:VEVENT
DTSTART;TZID=America/Los_Angeles:20240727T100000
DTEND;TZID=America/Los_Angeles:20240728T130000
DTSTAMP:20260419T215717
CREATED:20240703T061750Z
LAST-MODIFIED:20240809T054714Z
UID:10000049-1722074400-1722171600@www.bcfamilyhearing.com
SUMMARY:Mingle and Play - Volunteers Wanted!
DESCRIPTION:We are looking for volunteers for Mingle & Play\, our annual summer event! \n\n\nTo sign up\, contact Candace Moss at cmoss@bcfamilyhearing.com\, or by calling our Vancouver office at 604-428-7949.
URL:https://www.bcfamilyhearing.com/event/mingle-and-play-volunteers-wanted/
LOCATION:BC Family Hearing Resource Society – Surrey\, 15220 92 Avenue\, Surrey\, British Columbia\, V3R2T8\, Canada
CATEGORIES:Event
ATTACH;FMTTYPE=image/png:https://www.bcfamilyhearing.com/wp-content/uploads/2024/07/2024-MP-Volunteer-Flyer.png
END:VEVENT
BEGIN:VEVENT
DTSTART;TZID=UTC:20240727T100000
DTEND;TZID=UTC:20240728T130000
DTSTAMP:20260419T215717
CREATED:20240703T060857Z
LAST-MODIFIED:20240703T062051Z
UID:10000048-1722074400-1722171600@www.bcfamilyhearing.com
SUMMARY:Mingle and Play
DESCRIPTION:Our summer Mingle & Play event is coming up this July 27th and 28th\, 2024.
URL:https://www.bcfamilyhearing.com/event/mingle-and-play/
LOCATION:BC Family Hearing Resource Society – Surrey\, 15220 92 Avenue\, Surrey\, British Columbia\, V3R2T8\, Canada
CATEGORIES:Event
ATTACH;FMTTYPE=image/png:https://www.bcfamilyhearing.com/wp-content/uploads/2024/07/2024-MP-Flyer-e1719962445384.png
END:VEVENT
BEGIN:VEVENT
DTSTART;TZID=UTC:20240723T130000
DTEND;TZID=UTC:20240723T150000
DTSTAMP:20260419T215717
CREATED:20240703T060149Z
LAST-MODIFIED:20240703T060150Z
UID:10000047-1721739600-1721746800@www.bcfamilyhearing.com
SUMMARY:Rathrover Beach Meet Up
DESCRIPTION:Join us for a fun afternoon at the beach\, with games and opportunities to meet other deaf and hard of hearing families!
URL:https://www.bcfamilyhearing.com/event/rathrover-beach-meet-up/
LOCATION:Rathrover Beach\, 1240 Rath Road\, Parksville\, BC\, V9P2E2\, Canada
CATEGORIES:Event
GEO:49.31873;-124.269701
X-APPLE-STRUCTURED-LOCATION;VALUE=URI;X-ADDRESS=Rathrover Beach 1240 Rath Road Parksville BC V9P2E2 Canada;X-APPLE-RADIUS=500;X-TITLE=1240 Rath Road:geo:-124.269701,49.31873
END:VEVENT
END:VCALENDAR