BEGIN:VCALENDAR
VERSION:2.0
PRODID:-//BC Family Hearing - ECPv6.15.13.1//NONSGML v1.0//EN
CALSCALE:GREGORIAN
METHOD:PUBLISH
X-WR-CALNAME:BC Family Hearing
X-ORIGINAL-URL:https://www.bcfamilyhearing.com
X-WR-CALDESC:Events for BC Family Hearing
REFRESH-INTERVAL;VALUE=DURATION:PT1H
X-Robots-Tag:noindex
X-PUBLISHED-TTL:PT1H
BEGIN:VTIMEZONE
TZID:America/Denver
BEGIN:DAYLIGHT
TZOFFSETFROM:-0700
TZOFFSETTO:-0600
TZNAME:MDT
DTSTART:20250309T090000
END:DAYLIGHT
BEGIN:STANDARD
TZOFFSETFROM:-0600
TZOFFSETTO:-0700
TZNAME:MST
DTSTART:20251102T080000
END:STANDARD
BEGIN:DAYLIGHT
TZOFFSETFROM:-0700
TZOFFSETTO:-0600
TZNAME:MDT
DTSTART:20260308T090000
END:DAYLIGHT
BEGIN:STANDARD
TZOFFSETFROM:-0600
TZOFFSETTO:-0700
TZNAME:MST
DTSTART:20261101T080000
END:STANDARD
BEGIN:DAYLIGHT
TZOFFSETFROM:-0700
TZOFFSETTO:-0600
TZNAME:MDT
DTSTART:20270314T090000
END:DAYLIGHT
BEGIN:STANDARD
TZOFFSETFROM:-0600
TZOFFSETTO:-0700
TZNAME:MST
DTSTART:20271107T080000
END:STANDARD
END:VTIMEZONE
BEGIN:VTIMEZONE
TZID:America/Los_Angeles
BEGIN:DAYLIGHT
TZOFFSETFROM:-0800
TZOFFSETTO:-0700
TZNAME:PDT
DTSTART:20250309T100000
END:DAYLIGHT
BEGIN:STANDARD
TZOFFSETFROM:-0700
TZOFFSETTO:-0800
TZNAME:PST
DTSTART:20251102T090000
END:STANDARD
BEGIN:DAYLIGHT
TZOFFSETFROM:-0800
TZOFFSETTO:-0700
TZNAME:PDT
DTSTART:20260308T100000
END:DAYLIGHT
BEGIN:STANDARD
TZOFFSETFROM:-0700
TZOFFSETTO:-0800
TZNAME:PST
DTSTART:20261101T090000
END:STANDARD
BEGIN:DAYLIGHT
TZOFFSETFROM:-0800
TZOFFSETTO:-0700
TZNAME:PDT
DTSTART:20270314T100000
END:DAYLIGHT
BEGIN:STANDARD
TZOFFSETFROM:-0700
TZOFFSETTO:-0800
TZNAME:PST
DTSTART:20271107T090000
END:STANDARD
END:VTIMEZONE
BEGIN:VEVENT
DTSTART;TZID=America/Denver:20260207T130000
DTEND;TZID=America/Denver:20260207T150000
DTSTAMP:20260423T054123
CREATED:20260109T231619Z
LAST-MODIFIED:20260109T231620Z
UID:10000083-1770469200-1770476400@www.bcfamilyhearing.com
SUMMARY:Family Bowling! (Victoria)
DESCRIPTION:For families with Deaf and Hard of hearing (DHH) children and DHH parents with their children. Open for all ages!Please click here for more information\, and to RSVP.
URL:https://www.bcfamilyhearing.com/event/family-bowling-victoria/
LOCATION:Langford Lanes Bowling Alley\, 1097 Langford Parkway\, Victoria\, BC\, V9B 0A5\, Canada
ATTACH;FMTTYPE=image/jpeg:https://www.bcfamilyhearing.com/wp-content/uploads/2026/01/Family-Bowling-Logo.jpg
END:VEVENT
BEGIN:VEVENT
DTSTART;TZID=America/Denver:20260221T103000
DTEND;TZID=America/Denver:20260221T130000
DTSTAMP:20260423T054123
CREATED:20260128T171002Z
LAST-MODIFIED:20260128T171003Z
UID:10000084-1771669800-1771678800@www.bcfamilyhearing.com
SUMMARY:Family Fun Day (Surrey)
DESCRIPTION:Join us for a special morning of crafts\, activities\, and entertainment!Please click here for more information\, and to RSVP.
URL:https://www.bcfamilyhearing.com/event/family-fun-day-surrey-2/
LOCATION:BC Family Hearing Resource Society – Surrey\, 15220 92 Avenue\, Surrey\, British Columbia\, V3R2T8\, Canada
CATEGORIES:Event
ATTACH;FMTTYPE=image/png:https://www.bcfamilyhearing.com/wp-content/uploads/2026/01/family-fun-day-logo-2026.png
END:VEVENT
BEGIN:VEVENT
DTSTART;TZID=America/Denver:20260303T170000
DTEND;TZID=America/Denver:20260303T180000
DTSTAMP:20260423T054123
CREATED:20260211T215425Z
LAST-MODIFIED:20260211T215512Z
UID:10000085-1772557200-1772560800@www.bcfamilyhearing.com
SUMMARY:Kamloops Family Meet Up
DESCRIPTION:You’re welcome join us for a casual meet up for families!Please click here for more information\, and to RSVP.
URL:https://www.bcfamilyhearing.com/event/kamloops-family-meet-up/
LOCATION:Kamloops Children’s Therapy & Family Resource Centre\, 801 McGill Road\, Kamloops\, BC\, V2C 6R1\, Canada
CATEGORIES:Event
ATTACH;FMTTYPE=image/png:https://www.bcfamilyhearing.com/wp-content/uploads/2026/02/Kamloops-Family-Meet-Up-2026-Logo-scaled.png
END:VEVENT
BEGIN:VEVENT
DTSTART;TZID=America/Denver:20260311T090000
DTEND;TZID=America/Denver:20260311T160000
DTSTAMP:20260423T054123
CREATED:20260211T220020Z
LAST-MODIFIED:20260211T220021Z
UID:10000086-1773219600-1773244800@www.bcfamilyhearing.com
SUMMARY:Working with Families of Infants Workshop (Online)
DESCRIPTION:This workshop is for early intervention professionals working with families of deaf and hard of hearing infants aged 0-18 months.Please click here for more information\, and to register.
URL:https://www.bcfamilyhearing.com/event/working-with-families-of-infants-workshop-online/
CATEGORIES:Workshop
ATTACH;FMTTYPE=image/png:https://www.bcfamilyhearing.com/wp-content/uploads/2026/02/Working-with-Families-of-Infants-Workshop-Logo-2026.png
END:VEVENT
BEGIN:VEVENT
DTSTART;TZID=America/Los_Angeles:20260418T090000
DTEND;TZID=America/Los_Angeles:20260419T130000
DTSTAMP:20260423T054123
CREATED:20260202T175643Z
LAST-MODIFIED:20260202T185809Z
UID:10000065-1776502800-1776603600@www.bcfamilyhearing.com
SUMMARY:PEER Kids Classroom (Surrey & Online)
DESCRIPTION:Please join us this April for our PEER Kids Classrooms! \n\n\n\n\nPlease click here for more information\, and to RSVP.
URL:https://www.bcfamilyhearing.com/event/peer-kids-classroom/
LOCATION:BC Family Hearing Resource Society – Surrey\, 15220 92 Avenue\, Surrey\, British Columbia\, V3R2T8\, Canada
CATEGORIES:Event,Group
ATTACH;FMTTYPE=image/png:https://www.bcfamilyhearing.com/wp-content/uploads/2025/02/2-day-PEER-Classroom-Logo2-e1738972402564.png
END:VEVENT
BEGIN:VEVENT
DTSTART;TZID=America/Denver:20260428T170000
DTEND;TZID=America/Denver:20260428T183000
DTSTAMP:20260423T054123
CREATED:20260421T223200Z
LAST-MODIFIED:20260421T223319Z
UID:10000088-1777395600-1777401000@www.bcfamilyhearing.com
SUMMARY:Peace Family Get-Together (Fort St. John)
DESCRIPTION:Join us for an opportunity to informally meet with other families in your area!
URL:https://www.bcfamilyhearing.com/event/peace-family-get-together-fort-st-john/
LOCATION:Fort St. John Child Development Centre\, 10417 106th Avenue\, Fort St. John\, BC\, V1J 2M8\, Canada
CATEGORIES:Event
ATTACH;FMTTYPE=image/jpeg:https://www.bcfamilyhearing.com/wp-content/uploads/2025/04/Peace-Family-Get-Together-Logo.jpg
END:VEVENT
BEGIN:VEVENT
DTSTART;TZID=America/Denver:20260827T170000
DTEND;TZID=America/Denver:20260831T110000
DTSTAMP:20260423T054123
CREATED:20260211T221435Z
LAST-MODIFIED:20260211T221524Z
UID:10000087-1787850000-1788174000@www.bcfamilyhearing.com
SUMMARY:CNIWT Deaf and Hard of Hearing Family Camp (West Kelowna)
DESCRIPTION:
URL:https://www.bcfamilyhearing.com/event/cniwt-deaf-and-hard-of-hearing-family-camp-west-kelowna/
LOCATION:Green Bay Bible Camp\, 1449 Green Bay Rd\, West Kelowna\, BC\, V4T 1Y5\, Canada
CATEGORIES:ASL,Event
ATTACH;FMTTYPE=image/png:https://www.bcfamilyhearing.com/wp-content/uploads/2026/02/2026-CNIWT-Deaf-and-Hard-of-Hearing-Family-Camp-Logo.png
END:VEVENT
END:VCALENDAR