BEGIN:VCALENDAR
VERSION:2.0
PRODID:-//BC Family Hearing - ECPv6.15.13.1//NONSGML v1.0//EN
CALSCALE:GREGORIAN
METHOD:PUBLISH
X-ORIGINAL-URL:https://www.bcfamilyhearing.com
X-WR-CALDESC:Events for BC Family Hearing
REFRESH-INTERVAL;VALUE=DURATION:PT1H
X-Robots-Tag:noindex
X-PUBLISHED-TTL:PT1H
BEGIN:VTIMEZONE
TZID:America/Los_Angeles
BEGIN:DAYLIGHT
TZOFFSETFROM:-0800
TZOFFSETTO:-0700
TZNAME:PDT
DTSTART:20240310T100000
END:DAYLIGHT
BEGIN:STANDARD
TZOFFSETFROM:-0700
TZOFFSETTO:-0800
TZNAME:PST
DTSTART:20241103T090000
END:STANDARD
BEGIN:DAYLIGHT
TZOFFSETFROM:-0800
TZOFFSETTO:-0700
TZNAME:PDT
DTSTART:20250309T100000
END:DAYLIGHT
BEGIN:STANDARD
TZOFFSETFROM:-0700
TZOFFSETTO:-0800
TZNAME:PST
DTSTART:20251102T090000
END:STANDARD
BEGIN:DAYLIGHT
TZOFFSETFROM:-0800
TZOFFSETTO:-0700
TZNAME:PDT
DTSTART:20260308T100000
END:DAYLIGHT
BEGIN:STANDARD
TZOFFSETFROM:-0700
TZOFFSETTO:-0800
TZNAME:PST
DTSTART:20261101T090000
END:STANDARD
END:VTIMEZONE
BEGIN:VTIMEZONE
TZID:America/Denver
BEGIN:DAYLIGHT
TZOFFSETFROM:-0700
TZOFFSETTO:-0600
TZNAME:MDT
DTSTART:20240310T090000
END:DAYLIGHT
BEGIN:STANDARD
TZOFFSETFROM:-0600
TZOFFSETTO:-0700
TZNAME:MST
DTSTART:20241103T080000
END:STANDARD
BEGIN:DAYLIGHT
TZOFFSETFROM:-0700
TZOFFSETTO:-0600
TZNAME:MDT
DTSTART:20250309T090000
END:DAYLIGHT
BEGIN:STANDARD
TZOFFSETFROM:-0600
TZOFFSETTO:-0700
TZNAME:MST
DTSTART:20251102T080000
END:STANDARD
BEGIN:DAYLIGHT
TZOFFSETFROM:-0700
TZOFFSETTO:-0600
TZNAME:MDT
DTSTART:20260308T090000
END:DAYLIGHT
BEGIN:STANDARD
TZOFFSETFROM:-0600
TZOFFSETTO:-0700
TZNAME:MST
DTSTART:20261101T080000
END:STANDARD
END:VTIMEZONE
BEGIN:VEVENT
DTSTART;TZID=America/Los_Angeles:20251004T100000
DTEND;TZID=America/Los_Angeles:20251004T120000
DTSTAMP:20260422T155438
CREATED:20250910T234733Z
LAST-MODIFIED:20250911T010416Z
UID:10000074-1759572000-1759579200@www.bcfamilyhearing.com
SUMMARY:Fall Fun at the Farm (Vernon)
DESCRIPTION:Join us for a trip to visit the animals\, take a tractor ride\, and go pumpkin picking!Click here for more information\, and to register.
URL:https://www.bcfamilyhearing.com/event/fall-fun-at-the-farm-vernon/
LOCATION:Davison Orchards\, 3111 Davison Road\, Vernon\, BC\, V1H 1A2\, Canada
CATEGORIES:Event,Field Trip
ATTACH;FMTTYPE=image/png:https://www.bcfamilyhearing.com/wp-content/uploads/2025/09/Fall-Fun-at-the-Farm-Logo.png
END:VEVENT
BEGIN:VEVENT
DTSTART;TZID=America/Los_Angeles:20251004T100000
DTEND;TZID=America/Los_Angeles:20251004T120000
DTSTAMP:20260422T155438
CREATED:20250911T003852Z
LAST-MODIFIED:20250911T010444Z
UID:10000075-1759572000-1759579200@www.bcfamilyhearing.com
SUMMARY:Fraser Valley Pumpkin Patch Field Trip (Surrey)
DESCRIPTION:Join us for a trip to visit the pumpkin patch\, visit the animals\, and go for a hayride!Please click here for more information\, and to register.COST:Students – $13 (entrance\, hayride\, small pumpkin)Parents – $7 (entrance\, hayride)
URL:https://www.bcfamilyhearing.com/event/fraser-valley-pumpkin-patch-field-trip-surrey/
LOCATION:Rondriso Farms and Pumpkin Patch\, 8390 172 Street\, Surrey\, BC\, V4N 3G4\, Canada
CATEGORIES:Event,Field Trip
ATTACH;FMTTYPE=image/png:https://www.bcfamilyhearing.com/wp-content/uploads/2025/09/Fraser-Valley-Pumpkin-Patch-Field-Trip-Logo.png
END:VEVENT
BEGIN:VEVENT
DTSTART;TZID=America/Denver:20251006T100000
DTEND;TZID=America/Denver:20251006T120000
DTSTAMP:20260422T155438
CREATED:20250911T010152Z
LAST-MODIFIED:20250923T180613Z
UID:10000076-1759744800-1759752000@www.bcfamilyhearing.com
SUMMARY:Richmond Pumpkin Patch Field Trip (Richmond)
DESCRIPTION:Join us for a trip to visit the animals\, take a tractor ride\, and go pumpkin picking! \n\nPlease click here for more information\, and to register.
URL:https://www.bcfamilyhearing.com/event/richmond-pumpkin-patch-trip-save-the-date-richmond/
LOCATION:Richmond Country Farms\, 12900 Steveston Highway\, Richmond\, BC\, V6W 1A3\, Canada
CATEGORIES:Event,Field Trip
ATTACH;FMTTYPE=image/png:https://www.bcfamilyhearing.com/wp-content/uploads/2025/09/Richmond-Pumpkin-Patch-Logo.png
END:VEVENT
BEGIN:VEVENT
DTSTART;TZID=America/Denver:20251018T130000
DTEND;TZID=America/Denver:20251018T150000
DTSTAMP:20260422T155438
CREATED:20250919T213014Z
LAST-MODIFIED:20250919T213103Z
UID:10000078-1760792400-1760799600@www.bcfamilyhearing.com
SUMMARY:Pumpkinfest at Galey Farms (Victoria)
DESCRIPTION:
URL:https://www.bcfamilyhearing.com/event/pumpkinfest-at-galey-farms-victoria/
LOCATION:Galey Farms\, 4150 Blenkinsop Road\, Victoria\, BC\, V8X 2C4\, Canada
CATEGORIES:Event,Field Trip
ATTACH;FMTTYPE=image/png:https://www.bcfamilyhearing.com/wp-content/uploads/2025/09/2025-Pumpkinfest-at-Galey-Farms.png
END:VEVENT
END:VCALENDAR