BEGIN:VCALENDAR
VERSION:2.0
PRODID:-//BC Family Hearing - ECPv6.15.13.1//NONSGML v1.0//EN
CALSCALE:GREGORIAN
METHOD:PUBLISH
X-WR-CALNAME:BC Family Hearing
X-ORIGINAL-URL:https://www.bcfamilyhearing.com
X-WR-CALDESC:Events for BC Family Hearing
REFRESH-INTERVAL;VALUE=DURATION:PT1H
X-Robots-Tag:noindex
X-PUBLISHED-TTL:PT1H
BEGIN:VTIMEZONE
TZID:America/Los_Angeles
BEGIN:DAYLIGHT
TZOFFSETFROM:-0800
TZOFFSETTO:-0700
TZNAME:PDT
DTSTART:20240310T100000
END:DAYLIGHT
BEGIN:STANDARD
TZOFFSETFROM:-0700
TZOFFSETTO:-0800
TZNAME:PST
DTSTART:20241103T090000
END:STANDARD
BEGIN:DAYLIGHT
TZOFFSETFROM:-0800
TZOFFSETTO:-0700
TZNAME:PDT
DTSTART:20250309T100000
END:DAYLIGHT
BEGIN:STANDARD
TZOFFSETFROM:-0700
TZOFFSETTO:-0800
TZNAME:PST
DTSTART:20251102T090000
END:STANDARD
BEGIN:DAYLIGHT
TZOFFSETFROM:-0800
TZOFFSETTO:-0700
TZNAME:PDT
DTSTART:20260308T100000
END:DAYLIGHT
BEGIN:STANDARD
TZOFFSETFROM:-0700
TZOFFSETTO:-0800
TZNAME:PST
DTSTART:20261101T090000
END:STANDARD
END:VTIMEZONE
BEGIN:VEVENT
DTSTART;TZID=America/Los_Angeles:20250726T100000
DTEND;TZID=America/Los_Angeles:20250727T130000
DTSTAMP:20260422T233753
CREATED:20250614T010730Z
LAST-MODIFIED:20250716T041659Z
UID:10000071-1753524000-1753621200@www.bcfamilyhearing.com
SUMMARY:Mingle & Play (Surrey)
DESCRIPTION:Please click the flyer image below to RSVP! \n\n\n\n			\n\n\nPlease click here if you are interested in volunteering for this event. \n\nHere is the schedule for the event:
URL:https://www.bcfamilyhearing.com/event/mingle-play-surrey/
LOCATION:BC Family Hearing Resource Society – Surrey\, 15220 92 Avenue\, Surrey\, British Columbia\, V3R2T8\, Canada
CATEGORIES:ASL,Event
ATTACH;FMTTYPE=image/jpeg:https://www.bcfamilyhearing.com/wp-content/uploads/2025/06/Mingle-Play-2025-Flyer-Banner.jpg
END:VEVENT
END:VCALENDAR